BEGIN:VCALENDAR
VERSION:2.0
PRODID:icalendar-ruby
CALSCALE:GREGORIAN
METHOD:PUBLISH
BEGIN:VEVENT
DTSTAMP:20260425T174700Z
UID:102-461792@trinitycolumbia.com
DTSTART;VALUE=DATE:20260628
DTEND;VALUE=DATE:20260701
CLASS:PUBLIC
CREATED:20260311T131825
DESCRIPTION:SIGN UP HERE I River Oaks Retreat Center I Honea Path\, SC 2965
 4 I early registration  $235 
LAST-MODIFIED:20260311T131825
LOCATION:WEST\, EAST join
SUMMARY:KIDS Camp
URL;VALUE=URI:https://www.trinitycolumbia.com/events/kids-camp--102/2026-06
 -28
ATTACH;FILENAME=kids-camp-2026.png;FMTTYPE=image/png:https://dq5pwpg1q8ru0.
 cloudfront.net/2026/03/11/17/18/25/dd260b4f-ddf2-4c75-b9d6-872d4de6ad34/ki
 ds-camp-2026.png
END:VEVENT
END:VCALENDAR
