BEGIN:VCALENDAR
VERSION:2.0
PRODID:icalendar-ruby
CALSCALE:GREGORIAN
METHOD:PUBLISH
BEGIN:VEVENT
DTSTAMP:20260423T074631Z
UID:103-461793@trinitycolumbia.com
DTSTART:20260424T210000Z
DTEND:20260425T190000Z
CLASS:PUBLIC
CREATED:20260311T142706
DESCRIPTION: SIGN UP HERE  I River Oak Retreat Center I Honea Path\, SC 2
 9654 I $55
LAST-MODIFIED:20260311T142706
LOCATION:River Oaks Retreat Center
SUMMARY:Mens Retreat
URL;VALUE=URI:https://www.trinitycolumbia.com/events/mens-retreat/2026-04-2
 4
ATTACH;FILENAME=Mens-Retreat-2026.png;FMTTYPE=image/png:https://dq5pwpg1q8r
 u0.cloudfront.net/2026/03/11/18/27/06/942a73f3-8155-4945-98dd-09af385541ea
 /Mens-Retreat-2026.png
END:VEVENT
END:VCALENDAR
