BEGIN:VCALENDAR
VERSION:2.0
PRODID:icalendar-ruby
CALSCALE:GREGORIAN
METHOD:PUBLISH
BEGIN:VEVENT
DTSTAMP:20260424T070930Z
UID:18-581231@trinitycolumbia.com
DTSTART:20260930T223000Z
DTEND:20261001T000000Z
CLASS:PUBLIC
CREATED:20260423T223847
DESCRIPTION:SIGN UP
LAST-MODIFIED:20260423T223847
LOCATION:WEST sanctuary
SUMMARY:WEST Bible Study
URL;VALUE=URI:https://www.trinitycolumbia.com/events/west-bible-study/2026-
 09-30
ATTACH;FILENAME=Slide11.PNG;FMTTYPE=image/png:https://dq5pwpg1q8ru0.cloudfr
 ont.net/2025/01/29/02/23/51/91113ae1-04aa-44b6-b2c1-93a9ca586c05/Slide11.P
 NG
END:VEVENT
END:VCALENDAR
