BEGIN:VCALENDAR
VERSION:2.0
PRODID:icalendar-ruby
CALSCALE:GREGORIAN
METHOD:PUBLISH
BEGIN:VEVENT
DTSTAMP:20260424T165027Z
UID:18-582184@trinitycolumbia.com
DTSTART:20261104T233000Z
DTEND:20261105T010000Z
CLASS:PUBLIC
CREATED:20260424T110009
DESCRIPTION:SIGN UP
LAST-MODIFIED:20260424T110009
LOCATION:WEST sanctuary
SUMMARY:WEST Bible Study
URL;VALUE=URI:https://www.trinitycolumbia.com/events/west-bible-study/2026-
 11-04
ATTACH;FILENAME=Slide11.PNG;FMTTYPE=image/png:https://dq5pwpg1q8ru0.cloudfr
 ont.net/2025/01/29/02/23/51/91113ae1-04aa-44b6-b2c1-93a9ca586c05/Slide11.P
 NG
END:VEVENT
END:VCALENDAR
