BEGIN:VCALENDAR
VERSION:2.0
PRODID:icalendar-ruby
CALSCALE:GREGORIAN
METHOD:PUBLISH
BEGIN:VEVENT
DTSTAMP:20260425T195517Z
UID:104-564361@trinitycolumbia.com
DTSTART:20260502T223000Z
DTEND:20260504T000000Z
CLASS:PUBLIC
CREATED:20260417T230854
DESCRIPTION:\n WORSHIP ENCOUNTER Sunday\, May 3 • 6:30 PM  We will soak i
 n worship  We will wait on the presence of God  We will receive a weighty\
 , Spirit-led word. There are things God does only when we soak. If you’r
 e hungry for more\, this is where you come and receive. Sunday\, May 3 •
  6:30 PM  This is for our whole church family—don’t miss it\n
LAST-MODIFIED:20260417T230854
LOCATION:EAST Campus
SUMMARY:Worship Encounter
URL;VALUE=URI:https://www.trinitycolumbia.com/events/worship-encounter--104
 /2026-05-02
ATTACH;FILENAME=worship-encounter-2026-SLIDE.png;FMTTYPE=image/png:https://
 dq5pwpg1q8ru0.cloudfront.net/2026/04/18/03/08/53/874c1325-c1a1-40cc-bfe8-a
 a75c719bc2c/worship-encounter-2026-SLIDE.png
END:VEVENT
END:VCALENDAR
